BEGIN:VCALENDAR
VERSION:2.0
PRODID:SchoolNow
CALSCALE:GREGORIAN
BEGIN:VEVENT
UID:9314cece-16c3-11ee-bc94-025370c22e91
DTSTAMP:20230629T212613Z
SUMMARY:Fishhawk Ranch Shopping Bazaar
LOCATION:The Palmetto Club
URL;VALUE=URI:https://www.fishhawkranchcdd.org/calendar/4454697/fishhawk-ra
 nch-market-day-clone-clone-clone-clone-clone-clone-clone-clone-clone-clone
 -clone-clone-clone-clone-clone
DTSTART:20240921T140000Z
DTEND:20240921T190000Z
END:VEVENT
END:VCALENDAR
