BEGIN:VCALENDAR
VERSION:2.0
PRODID:SchoolNow
CALSCALE:GREGORIAN
BEGIN:VEVENT
UID:5e13de0e-16c3-11ee-b8f3-025370c22e91
DTSTAMP:20240521T012334Z
SUMMARY:Movie Night
LOCATION:Starling Club
URL;VALUE=URI:https://www.fishhawkranchcdd.org/calendar/4454696/family-movi
 e-night-feb-12-2022-clone-clone-clone-clone-clone-clone-clone
DTSTART:20240913T233000Z
DTEND:20240914T013000Z
END:VEVENT
END:VCALENDAR
